BEGIN:VCALENDAR
VERSION:2.0
PRODID:-//UPGR - ECPv6.15.18//NONSGML v1.0//EN
CALSCALE:GREGORIAN
METHOD:PUBLISH
X-WR-CALNAME:UPGR
X-ORIGINAL-URL:https://www.upgardrhodanien.com
X-WR-CALDESC:Évènements pour UPGR
REFRESH-INTERVAL;VALUE=DURATION:PT1H
X-Robots-Tag:noindex
X-PUBLISHED-TTL:PT1H
BEGIN:VTIMEZONE
TZID:UTC
BEGIN:STANDARD
TZOFFSETFROM:+0000
TZOFFSETTO:+0000
TZNAME:UTC
DTSTART:20240101T000000
END:STANDARD
END:VTIMEZONE
BEGIN:VEVENT
DTSTART;TZID=UTC:20250303T183000
DTEND;TZID=UTC:20250303T183000
DTSTAMP:20260422T154543
CREATED:20240827T091339Z
LAST-MODIFIED:20250226T100349Z
UID:4313-1741026600-1741026600@www.upgardrhodanien.com
SUMMARY:Canal de Suez : Histoire de sa construction et enjeux actuels
DESCRIPTION:Le premier percement de l’isthme de Suez est dû à Sésostris III\, pharaon régnant vers 1850 avant notre ère. Ce canal a été recreusé sous Darius puis entretenu par les empereurs romains jusqu’à ce qu’il soit bouché par un calife vers 760.\nC’est au XIXème siècle qu’au prix d’un chantier considérable\, Ferdinand de Lesseps a pu recreuser un nouveau canal qui depuis est devenu un enjeu international en captant 10% du trafic maritime.\nLe conférencier décrira ses modifications permanentes et ses rôles géopolitique et environnemental et dans la circulation des informations ou des communications pour s’adapter aux évolutions actuelles.\nLe canal est aujourd’hui au cœur de l’actualité des conflits du Moyen Orient et représente des enjeux géopolitiques considérables. \nConférencier : Marc BLANCHARD\nProfesseur agrégé en mathématiques. Inspecteur d’académie \n– Début des inscriptions : Une semaine avant la conférence\n– Renseignements : 06 37 49 43 45\n– Prix adhérents : 3€ – Prix non-adhérents : 6€ \nS’inscrireConférences - Films : Mode d'emploi\nLe programme des conférences et des films indiqué peut être amené à être modifié en cours d’année. Il est recommandé de vérifier sur le site Internet de l’association. \nIl est aussi recommandé de s’inscrire à l’avance (au plus tard la veille de la date de la conférence et au plus tôt une semaine avant la conférence) compte tenu du nombre de places disponibles limité. Pour chaque conférence\, inscription en ligne sur le lien indiqué sur le mail d’information ou sur le site Internet (www.upgardrhodanien.com). \nLes entrées sont payantes : 3 € pour les adhérents\, 6 € pour les non adhérents. Possibilité de prendre une carte PASS pour les adhérents : abonnements de 10 conférences (au choix) pour 20 €. La carte PASS 2022-2023 pourra servir pour les conférences programmées de septembre 2023 à mai 2024. \nLes conférences du Lundi ont lieu au CINÉ 102 (Pont-Saint-Esprit) à 18 h 30. Exceptionnellement\, certaines conférences pourront se dérouler sur un autre lieu.\nEnfin\, pour les films\, les tarifs d’entrée seront ceux pratiqués par le Ciné 102. Il n’y aura pas d’inscription préalable.
URL:https://www.upgardrhodanien.com/conference/canal-de-suez-histoire-de-sa-construction-et-enjeux-actuels/
LOCATION:Ciné 102\, La Cazerne\, Pont-Saint-Esprit\, Gard\, 30130\, France
CATEGORIES:Conférence
ATTACH;FMTTYPE=image/jpeg:https://www.upgardrhodanien.com/wp-content/uploads/2024/08/CANAL-DE-SUEZ-HISTOIRE-DE-SA-CONSTRUCTION-ET-ENJEUX-ACTUELS.jpg
END:VEVENT
BEGIN:VEVENT
DTSTART;TZID=UTC:20250310T183000
DTEND;TZID=UTC:20250310T183000
DTSTAMP:20260422T154543
CREATED:20240827T091253Z
LAST-MODIFIED:20250226T100207Z
UID:4315-1741631400-1741631400@www.upgardrhodanien.com
SUMMARY:50 ans de féminisme dans la ville la plus rebelle de France
DESCRIPTION:Pourquoi raconter le féminisme à Marseille plutôt qu’ailleurs ?\nVille de mauvaise réputation\, fréquemment accusée d’être trop pauvre\, sale\, mélangée\, vulgaire\, corrompue\, chaotique\, too much à l’image des cagoles qui en sont un emblème\, elle se voit aussi instrumentalisée sous la forme de laboratoire gouvernemental ou de miroir inversé de l’identité française. Que s’est-il passé depuis cinquante ans dans cette ville réputée hostile aux femmes ?\nDe l’aventure du Mlac au Drama Queer Football Club\, en passant par l’ouverture d’une antenne du Planning familial\, l’autonomisation des luttes lesbiennes\, l’opposition aux violences policières dès les années 1980\, le groupe des Cagoles de l’OM\, … chacune de ces femmes\, qu’elle soit créatrice\, animatrice\, défenseuse\, militante\, prend sa part dans une histoire collective\, solidaire et vivante\, haute en couleurs\, à l’image de la ville qui les abrite. \nEn partenariat avec « Femmes du Monde »\, dans le cadre de la Semaine des Droits des femmes. \nConférencière : Margaux MAZELLIER\nJournaliste. Auteur du livre “50 ans de féminisme dans la ville la plus rebelle de France” \n– Début des inscriptions : Une semaine avant la conférence\n– Renseignements : 06 37 49 43 45\n– Prix adhérents : 3€ – Prix non-adhérents : 6€ \nS’inscrireConférences - Films : Mode d'emploi\nLe programme des conférences et des films indiqué peut être amené à être modifié en cours d’année. Il est recommandé de vérifier sur le site Internet de l’association. \nIl est aussi recommandé de s’inscrire à l’avance (au plus tard la veille de la date de la conférence et au plus tôt une semaine avant la conférence) compte tenu du nombre de places disponibles limité. Pour chaque conférence\, inscription en ligne sur le lien indiqué sur le mail d’information ou sur le site Internet (www.upgardrhodanien.com). \nLes entrées sont payantes : 3 € pour les adhérents\, 6 € pour les non adhérents. Possibilité de prendre une carte PASS pour les adhérents : abonnements de 10 conférences (au choix) pour 20 €. La carte PASS 2022-2023 pourra servir pour les conférences programmées de septembre 2023 à mai 2024. \nLes conférences du Lundi ont lieu au CINÉ 102 (Pont-Saint-Esprit) à 18 h 30. Exceptionnellement\, certaines conférences pourront se dérouler sur un autre lieu.\nEnfin\, pour les films\, les tarifs d’entrée seront ceux pratiqués par le Ciné 102. Il n’y aura pas d’inscription préalable.
URL:https://www.upgardrhodanien.com/conference/50-ans-de-feminisme-dans-la-ville-la-plus-rebelle-de-france/
LOCATION:Ciné 102\, La Cazerne\, Pont-Saint-Esprit\, Gard\, 30130\, France
CATEGORIES:Conférence
ATTACH;FMTTYPE=image/jpeg:https://www.upgardrhodanien.com/wp-content/uploads/2024/08/50-ans-de-fEminisme-dans-la-ville-la-plus-rebelle-de-France.jpg
END:VEVENT
BEGIN:VEVENT
DTSTART;TZID=UTC:20250324T183000
DTEND;TZID=UTC:20250324T183000
DTSTAMP:20260422T154543
CREATED:20240827T090947Z
LAST-MODIFIED:20250226T100058Z
UID:4319-1742841000-1742841000@www.upgardrhodanien.com
SUMMARY:L'eau : Un élément vital en péril
DESCRIPTION:Changement climatique\, hausse de la consommation de l’eau\, la sécheresse n’épargne plus la France. Le terme « guerre de l’eau » est de plus en plus employé. Quel est l’état de cette ressource\, indispensable à la vie ? Quels sont les enjeux actuels ?\nL’agriculture joue un rôle central dans la pollution et la consommation de l’eau. Nous retrouvons des pesticides jusque dans la graisse des baleines… Quelles sont les solutions ?\nObjet des convoitises de sociétés multinationales\, l’eau est un bien commun qui nécessite une gestion collective. Comment la consommer de façon plus sobre\, écologique\, équitable et locale ? Voici les thèmes que nous traiterons lors de cette conférence issue d’une enquête de plus d’un an dans laquelle plus de 60 chercheurs\, agriculteurs et acteurs de la société civile ont été interrogés. \nConférence organisée en partenariat avec GENERATIONS FUTURES \nConférencière : Juliette DUQUESNE\nJournaliste indépendante\, autrice de livres\, en particulier « L’eau que nous sommes »\, a créé une collection de plusieurs livres (avec Pierre Rabhi\, les Presses du Châtelet) : « Carnets d’alerte » \n– Début des inscriptions : Une semaine avant la conférence\n– Renseignements : 06 37 49 43 45\n– Prix adhérents : 3€ – Prix non-adhérents : 6€ \nS’inscrireConférences - Films : Mode d'emploi\nLe programme des conférences et des films indiqué peut être amené à être modifié en cours d’année. Il est recommandé de vérifier sur le site Internet de l’association. \nIl est aussi recommandé de s’inscrire à l’avance (au plus tard la veille de la date de la conférence et au plus tôt une semaine avant la conférence) compte tenu du nombre de places disponibles limité. Pour chaque conférence\, inscription en ligne sur le lien indiqué sur le mail d’information ou sur le site Internet (www.upgardrhodanien.com). \nLes entrées sont payantes : 3 € pour les adhérents\, 6 € pour les non adhérents. Possibilité de prendre une carte PASS pour les adhérents : abonnements de 10 conférences (au choix) pour 20 €. La carte PASS 2022-2023 pourra servir pour les conférences programmées de septembre 2023 à mai 2024. \nLes conférences du Lundi ont lieu au CINÉ 102 (Pont-Saint-Esprit) à 18 h 30. Exceptionnellement\, certaines conférences pourront se dérouler sur un autre lieu.\nEnfin\, pour les films\, les tarifs d’entrée seront ceux pratiqués par le Ciné 102. Il n’y aura pas d’inscription préalable.
URL:https://www.upgardrhodanien.com/conference/leau-un-element-vital-en-peril/
LOCATION:Ciné 102\, La Cazerne\, Pont-Saint-Esprit\, Gard\, 30130\, France
CATEGORIES:Conférence
ATTACH;FMTTYPE=image/jpeg:https://www.upgardrhodanien.com/wp-content/uploads/2024/08/leau-un-ElEment-vital-en-pEril.jpg
END:VEVENT
BEGIN:VEVENT
DTSTART;TZID=UTC:20250331T183000
DTEND;TZID=UTC:20250331T183000
DTSTAMP:20260422T154543
CREATED:20240827T090833Z
LAST-MODIFIED:20250226T095940Z
UID:4321-1743445800-1743445800@www.upgardrhodanien.com
SUMMARY:Le corbusier : Le théoricien de la modernité architecturale
DESCRIPTION:Le Corbusier\, architecte emblématique du XXème siècle\, fut aussi urbaniste (Chandigarh)\, dessinateur\, peintre\, sculpteur\, photographe… et designer dans de nombreux domaines dont le mobilier et le textile.\nUn écrivain prolixe aussi\, sur un ton souvent polémique. « Les matériaux de l’urbanisme sont le soleil\, l’espace\, les arbres\, l’acier et le ciment armé\, dans cet ordre et dans cette hiérarchie » : il fut attentif à intégrer la culture et la beauté esthétique parmi les exigences rationnelles des constructions humaines (ce qui fut souvent oublié par ses suiveurs).\nLe seul architecte à voir\, de son vivant\, classée Monument Historique une de ses réalisations. La totalité de son œuvre est aujourd’hui inscrite au Patrimoine Mondial de l’UNESCO. Nous allons faire connaissance avec quelques unes des différentes facettes de cet humaniste de tout-premier ordre. \nConférencier : Frédéric MORIN\nArchitecte – conférencier \n– Début des inscriptions : Une semaine avant la conférence\n– Renseignements : 06 37 49 43 45\n– Prix adhérents : 3€ – Prix non-adhérents : 6€ \nS’inscrireConférences - Films : Mode d'emploi\nLe programme des conférences et des films indiqué peut être amené à être modifié en cours d’année. Il est recommandé de vérifier sur le site Internet de l’association. \nIl est aussi recommandé de s’inscrire à l’avance (au plus tard la veille de la date de la conférence et au plus tôt une semaine avant la conférence) compte tenu du nombre de places disponibles limité. Pour chaque conférence\, inscription en ligne sur le lien indiqué sur le mail d’information ou sur le site Internet (www.upgardrhodanien.com). \nLes entrées sont payantes : 3 € pour les adhérents\, 6 € pour les non adhérents. Possibilité de prendre une carte PASS pour les adhérents : abonnements de 10 conférences (au choix) pour 20 €. La carte PASS 2022-2023 pourra servir pour les conférences programmées de septembre 2023 à mai 2024. \nLes conférences du Lundi ont lieu au CINÉ 102 (Pont-Saint-Esprit) à 18 h 30. Exceptionnellement\, certaines conférences pourront se dérouler sur un autre lieu.\nEnfin\, pour les films\, les tarifs d’entrée seront ceux pratiqués par le Ciné 102. Il n’y aura pas d’inscription préalable.
URL:https://www.upgardrhodanien.com/conference/le-corbusier-le-theoricien-de-la-modernite-architecturale/
LOCATION:Ciné 102\, La Cazerne\, Pont-Saint-Esprit\, Gard\, 30130\, France
CATEGORIES:Conférence
ATTACH;FMTTYPE=image/jpeg:https://www.upgardrhodanien.com/wp-content/uploads/2024/08/le-corbusier-le-thEoricien-de-la-modernite-architecturale.jpg
END:VEVENT
END:VCALENDAR