BEGIN:VCALENDAR
VERSION:2.0
PRODID:-//UPGR - ECPv6.15.18//NONSGML v1.0//EN
CALSCALE:GREGORIAN
METHOD:PUBLISH
X-ORIGINAL-URL:https://www.upgardrhodanien.com
X-WR-CALDESC:Évènements pour UPGR
REFRESH-INTERVAL;VALUE=DURATION:PT1H
X-Robots-Tag:noindex
X-PUBLISHED-TTL:PT1H
BEGIN:VTIMEZONE
TZID:UTC
BEGIN:STANDARD
TZOFFSETFROM:+0000
TZOFFSETTO:+0000
TZNAME:UTC
DTSTART:20240101T000000
END:STANDARD
END:VTIMEZONE
BEGIN:VEVENT
DTSTART;TZID=UTC:20251006T183000
DTEND;TZID=UTC:20251006T200000
DTSTAMP:20260422T044922
CREATED:20250822T145704Z
LAST-MODIFIED:20250822T145704Z
UID:4820-1759775400-1759780800@www.upgardrhodanien.com
SUMMARY:Le conflit israëlo-palestinien : des origines à la guerre des 6 jours de 1967
DESCRIPTION:Alain CHAFFEL\nProfesseur honoraire de classes préparatoires. Agrégé et docteur en histoire \nL’Empire ottoman disparaît à la fin de la première guerre mondiale donnant naissance à la Turquie et à de nouveaux États dessinés par les puissances européennes. Nouveaux États gérés par la France et l’Angleterre dans le cadre de mandats de la SDN.\nC’est dans ce contexte qu’une zone de tension va se cristalliser et s’intensifier en Palestine administrée par les Anglais. \nCes tensions avaient commencé à la fin du XIXe siècle avec les débuts du mouvement sioniste poussant quelques milliers de juifs à s’installer en Palestine peuplée de populations arabes. Elles vont ensuite s’amplifier au lendemain de la première guerre mondiale\, car les britanniques acceptent régulièrement l’arrivée de nouveaux immigrants juifs. D’où de violents affrontements qui culminent en 1936-39. \nOr\, la seconde guerre mondiale\, le drame de la Shoah et la quête d’un État refuge pour les juifs\, vont déboucher sur la décision de l’ONU en 1947 de créer deux États en Palestine : un pour les juifs\, un autre pour les arabes ; Jérusalem et les lieux saints étant placés sous tutelle internationale. Rejetée par les arabes\, cette décision va entraîner une succession de guerres qui se termineront par la victoire totale d’Israël en 1967. \nInscriptions : lien Internet indiqué par mail pour les adhérents ou sur le site Internet (www.upgardrhodanien.com ).\nRenseignements : 06 37 49 43 45 \nConférences - Films : Mode d'emploi\nLe programme des conférences et des films indiqué peut être amené à être modifié en cours d’année. Il est recommandé de vérifier sur le site Internet de l’association. \nIl est aussi recommandé de s’inscrire à l’avance (au plus tard la veille de la date de la conférence et au plus tôt une semaine avant la conférence) compte tenu du nombre de places disponibles limité. Pour chaque conférence\, inscription en ligne sur le lien indiqué sur le mail d’information ou sur le site Internet (www.upgardrhodanien.com). \nLes entrées sont payantes : 3 € pour les adhérents\, 6 € pour les non adhérents. Possibilité de prendre une carte PASS pour les adhérents : abonnements de 10 conférences (au choix) pour 20 €. La carte PASS 2022-2023 pourra servir pour les conférences programmées de septembre 2023 à mai 2024. \nLes conférences du Lundi ont lieu au CINÉ 102 (Pont-Saint-Esprit) à 18 h 30. Exceptionnellement\, certaines conférences pourront se dérouler sur un autre lieu.\nEnfin\, pour les films\, les tarifs d’entrée seront ceux pratiqués par le Ciné 102. Il n’y aura pas d’inscription préalable.
URL:https://www.upgardrhodanien.com/conference/le-conflit-israelo-palestinien-des-origines-a-la-guerre-des-6-jours-de-1967/
LOCATION:Ciné102
CATEGORIES:Conférence
ATTACH;FMTTYPE=image/jpeg:https://www.upgardrhodanien.com/wp-content/uploads/2025/08/conference-palestine.jpg
END:VEVENT
BEGIN:VEVENT
DTSTART;TZID=UTC:20251012T103000
DTEND;TZID=UTC:20251012T113000
DTSTAMP:20260422T044922
CREATED:20250819T104002Z
LAST-MODIFIED:20250822T145615Z
UID:4822-1760265000-1760268600@www.upgardrhodanien.com
SUMMARY:Le Rhône et la ville\, de la construction du pont médiéval à la déviation des eaux en 1952
DESCRIPTION:Chantal BÉJUIT\nGuide conférencier \nConférence en partenariat avec la Conservation des musées du Gard et dans le cadre du Festival « Dans les bras du Rhône »   \nPont Saint Esprit doit son nom à ce pont édifié de 1265 à 1309 au-dessus du fleuve Rhône sauvage et puissant. À côté des marchands qui ont financé l’entreprise\, les pèlerins et les pauvres passants assurent sa renommée.Construire plus solide que le pont d’Avignon tout en s’inspirant des romains fut le défi réussi de l’Œuvre. Œuvre collective\, le pont du Saint-Esprit n’est pas pour autant une réalisation des « frères Pontifes »\, ordre né de l’imagination des historiens du XVIIIe siècle.La destinée de la ville sera liée au fleuve jusqu’au XIXe siècle.Milieu du XXe\, cette ville devra définitivement se réinventer après la disparition du grand fleuve en 1952. \nAttention : la conférence se déroulera exceptionnellement à 10 h 30 à la salle de conférence du Musée d’Art Sacré de Pont-Saint-Esprit.. \nEntrée gratuite sur inscription préalable \nInscriptions : lien Internet indiqué par mail pour les adhérents ou sur le site Internet (www.upgardrhodanien.com ).\nRenseignements : 06 37 49 43 45 \nConférences - Films : Mode d'emploi\nLe programme des conférences et des films indiqué peut être amené à être modifié en cours d’année. Il est recommandé de vérifier sur le site Internet de l’association. \nIl est aussi recommandé de s’inscrire à l’avance (au plus tard la veille de la date de la conférence et au plus tôt une semaine avant la conférence) compte tenu du nombre de places disponibles limité. Pour chaque conférence\, inscription en ligne sur le lien indiqué sur le mail d’information ou sur le site Internet (www.upgardrhodanien.com). \nLes entrées sont payantes : 3 € pour les adhérents\, 6 € pour les non adhérents. Possibilité de prendre une carte PASS pour les adhérents : abonnements de 10 conférences (au choix) pour 20 €. La carte PASS 2022-2023 pourra servir pour les conférences programmées de septembre 2023 à mai 2024. \nLes conférences du Lundi ont lieu au CINÉ 102 (Pont-Saint-Esprit) à 18 h 30. Exceptionnellement\, certaines conférences pourront se dérouler sur un autre lieu.\nEnfin\, pour les films\, les tarifs d’entrée seront ceux pratiqués par le Ciné 102. Il n’y aura pas d’inscription préalable.
URL:https://www.upgardrhodanien.com/conference/le-rhone-et-la-ville-de-la-construction-du-pont-medieval-a-la-deviation-des-eaux-en-1952/
LOCATION:Musée d’Art Sacré\, 2 Rue Saint-Jacques\, Pont-saint-esprit\, 30130\, France
CATEGORIES:Conférence
ATTACH;FMTTYPE=image/jpeg:https://www.upgardrhodanien.com/wp-content/uploads/2025/08/conference-pont-medieval.jpg
END:VEVENT
BEGIN:VEVENT
DTSTART;TZID=UTC:20251013T183000
DTEND;TZID=UTC:20251013T193000
DTSTAMP:20260422T044922
CREATED:20250822T145508Z
LAST-MODIFIED:20251007T053023Z
UID:4830-1760380200-1760383800@www.upgardrhodanien.com
SUMMARY:Paix impossible au cœur du conflit israelo-palestinien : de 1967 à nos jours
DESCRIPTION:Alain CHAFFEL\nProfesseur honoraire de classes préparatoires. Agrégé et docteur en histoire \nLa victoire fulgurante d’Israël sur les pays arabes en 1967 et l’élargissement de ses conquêtes changent la donne. Sa supériorité militaire peut également compter sur un appui sans faille des USA. Toutefois\, les mouvements palestiniens longtemps marginalisés et instrumentalisés par les États arabes\, vont prendre leur autonomie avec l’OLP pour combattre l’État Hébreux. \nOr\, les stratégies contradictoires et souvent maladroites de Palestiniens divisés face à un pouvoir israélien qui accentue la colonisation des territoires occupés\, rendent la situation impossible. La multiplicité des tensions géopolitiques et des guerres au Proche-Orient brouille encore plus les cartes. Les partisans d’une solution négociée vers la paix et la création de deux États ne parviennent pas à s’imposer (les accords d’Oslo feront long feu). \nTandis que l’essor de l’islamisme côté musulman et du messianisme religieux côté juif aggravent encore les fractures et les haines qui déboucheront sur la violence terroriste du Hamas le 7 octobre 2023 et les crimes innommables d’Israël à Gaza. \nInscriptions : lien Internet indiqué par mail pour les adhérents ou envoyer un mail à upgardrhodanien@gmail.com\nRenseignements : 06 37 49 43 45 \nConférences - Films : Mode d'emploi\nLe programme des conférences et des films indiqué peut être amené à être modifié en cours d’année. Il est recommandé de vérifier sur le site Internet de l’association. \nIl est aussi recommandé de s’inscrire à l’avance (au plus tard la veille de la date de la conférence et au plus tôt une semaine avant la conférence) compte tenu du nombre de places disponibles limité. Pour chaque conférence\, inscription en ligne sur le lien indiqué sur le mail d’information ou sur le site Internet (www.upgardrhodanien.com). \nLes entrées sont payantes : 3 € pour les adhérents\, 6 € pour les non adhérents. Possibilité de prendre une carte PASS pour les adhérents : abonnements de 10 conférences (au choix) pour 20 €. La carte PASS 2022-2023 pourra servir pour les conférences programmées de septembre 2023 à mai 2024. \nLes conférences du Lundi ont lieu au CINÉ 102 (Pont-Saint-Esprit) à 18 h 30. Exceptionnellement\, certaines conférences pourront se dérouler sur un autre lieu.\nEnfin\, pour les films\, les tarifs d’entrée seront ceux pratiqués par le Ciné 102. Il n’y aura pas d’inscription préalable.
URL:https://www.upgardrhodanien.com/conference/paix-impossible-au-coeur-du-conflit-israelo-palestinien-de-1967-a-nos-jours/
LOCATION:SALLE DES FETES
CATEGORIES:Conférence
ATTACH;FMTTYPE=image/jpeg:https://www.upgardrhodanien.com/wp-content/uploads/2025/08/conference-conflit.jpg
END:VEVENT
END:VCALENDAR