BEGIN:VCALENDAR
VERSION:2.0
PRODID:-//UPGR - ECPv6.15.18//NONSGML v1.0//EN
CALSCALE:GREGORIAN
METHOD:PUBLISH
X-WR-CALNAME:UPGR
X-ORIGINAL-URL:https://www.upgardrhodanien.com
X-WR-CALDESC:Évènements pour UPGR
REFRESH-INTERVAL;VALUE=DURATION:PT1H
X-Robots-Tag:noindex
X-PUBLISHED-TTL:PT1H
BEGIN:VTIMEZONE
TZID:UTC
BEGIN:STANDARD
TZOFFSETFROM:+0000
TZOFFSETTO:+0000
TZNAME:UTC
DTSTART:20240101T000000
END:STANDARD
END:VTIMEZONE
BEGIN:VEVENT
DTSTART;TZID=UTC:20251103T183000
DTEND;TZID=UTC:20251103T193000
DTSTAMP:20260422T030942
CREATED:20250822T145421Z
LAST-MODIFIED:20250822T145421Z
UID:4834-1762194600-1762198200@www.upgardrhodanien.com
SUMMARY:Peut-on parler d'une crise de confiance dans la science ?
DESCRIPTION:Bernadette BENSAUDE-VINCENT\nPhilosophe et historienne des sciences est professeure émérite à l’Université Paris 1 Panthéon-Sorbonne\nMembre de l’Académie des technologies. \nClimato-scepticisme\, refus de la 5G\, méfiance envers les vaccins\, depuis plusieurs années on n’en finit pas de déplorer le climat de méfiance qui règne dans la société contemporaine à l’égard des sciences.  \nCertains évoquent même un âge de post-vérité qui met la démocratie en danger. Mais sur quoi au juste porte la méfiance du public ? Et que faudrait-il faire pour en sortir ? \nInscriptions : lien Internet indiqué par mail pour les adhérents ou sur le site Internet (www.upgardrhodanien.com ).\nRenseignements : 06 37 49 43 45 \nConférences - Films : Mode d'emploi\nLe programme des conférences et des films indiqué peut être amené à être modifié en cours d’année. Il est recommandé de vérifier sur le site Internet de l’association. \nIl est aussi recommandé de s’inscrire à l’avance (au plus tard la veille de la date de la conférence et au plus tôt une semaine avant la conférence) compte tenu du nombre de places disponibles limité. Pour chaque conférence\, inscription en ligne sur le lien indiqué sur le mail d’information ou sur le site Internet (www.upgardrhodanien.com). \nLes entrées sont payantes : 3 € pour les adhérents\, 6 € pour les non adhérents. Possibilité de prendre une carte PASS pour les adhérents : abonnements de 10 conférences (au choix) pour 20 €. La carte PASS 2022-2023 pourra servir pour les conférences programmées de septembre 2023 à mai 2024. \nLes conférences du Lundi ont lieu au CINÉ 102 (Pont-Saint-Esprit) à 18 h 30. Exceptionnellement\, certaines conférences pourront se dérouler sur un autre lieu.\nEnfin\, pour les films\, les tarifs d’entrée seront ceux pratiqués par le Ciné 102. Il n’y aura pas d’inscription préalable.
URL:https://www.upgardrhodanien.com/conference/peut-on-parler-dune-crise-de-confiance-dans-la-science/
LOCATION:Ciné102
CATEGORIES:Conférence
ATTACH;FMTTYPE=image/jpeg:https://www.upgardrhodanien.com/wp-content/uploads/2025/08/crise-de-confiance-dans-la-science.jpg
END:VEVENT
BEGIN:VEVENT
DTSTART;TZID=UTC:20251117T183000
DTEND;TZID=UTC:20251117T193000
DTSTAMP:20260422T030942
CREATED:20250822T142351Z
LAST-MODIFIED:20250822T142351Z
UID:4836-1763404200-1763407800@www.upgardrhodanien.com
SUMMARY:Les nuits étoilées de Vincent Van Gogh
DESCRIPTION:Jean-Pierre LUMINET \nDirecteur de recherches au CNRS\, astrophysicien\, conférencier\, écrivain et poète.\nAuteur de l’ouvrage « Les nuits étoilées de Vincent Van Gogh » aux éd. Seghers \nAgé de 35 ans\, Vincent Van Gogh\, l’homme du Nord\, s’installe à Arles et découvre la lumière provençale\, éclatante de jour comme de nuit. Stupéfait par la limpidité du firmament\, ce passionné d’astronomie se laisse gagner par un projet nouveau : peindre le ciel. Et\, même s’il est intimidé par le défi\, il veut surtout peindre un ciel étoilé. Parce que « La nuit est encore plus richement colorée que le jour ».\nCertains de ses plus grands chefs-d’œuvre naîtront de cet élan : Terrasse de café le soir\, La Nuit étoilée sur le Rhône\, La Nuit étoilée de Saint-Rémy-de-Provence… Les étoiles correspondent-elles toujours\, dans ces tableaux\, à une configuration réelle du ciel nocturne\, reproduit d’après une observation précise ? \nPour répondre à cette question\, et nous éclairer sur un aspect fondamental de la vision artistique du peintre\, Jean-Pierre Luminet a mené une enquête passionnante\, se rendant sur les lieux précis où Van Gogh a peint\, s’appuyant sur sa correspondance\, consultant des travaux préexistants\, et recourant à des logiciels de reconstitution astronomique. Entre biographie\, histoire de l’art\, science et poésie.\n«Encore une fois\, je me laisse aller à faire des étoiles trop grandes » V. Van Gogh \nEn partenariat avec le 13ème Festival du Livre de Pont-St-Esprit et du Gard Rhodanien  \nInscriptions : lien Internet indiqué par mail pour les adhérents ou sur le site Internet (www.upgardrhodanien.com ).\nRenseignements : 06 37 49 43 45 \nConférences - Films : Mode d'emploi\nLe programme des conférences et des films indiqué peut être amené à être modifié en cours d’année. Il est recommandé de vérifier sur le site Internet de l’association. \nIl est aussi recommandé de s’inscrire à l’avance (au plus tard la veille de la date de la conférence et au plus tôt une semaine avant la conférence) compte tenu du nombre de places disponibles limité. Pour chaque conférence\, inscription en ligne sur le lien indiqué sur le mail d’information ou sur le site Internet (www.upgardrhodanien.com). \nLes entrées sont payantes : 3 € pour les adhérents\, 6 € pour les non adhérents. Possibilité de prendre une carte PASS pour les adhérents : abonnements de 10 conférences (au choix) pour 20 €. La carte PASS 2022-2023 pourra servir pour les conférences programmées de septembre 2023 à mai 2024. \nLes conférences du Lundi ont lieu au CINÉ 102 (Pont-Saint-Esprit) à 18 h 30. Exceptionnellement\, certaines conférences pourront se dérouler sur un autre lieu.\nEnfin\, pour les films\, les tarifs d’entrée seront ceux pratiqués par le Ciné 102. Il n’y aura pas d’inscription préalable.
URL:https://www.upgardrhodanien.com/conference/les-nuits-etoilees-de-vincent-van-gogh/
LOCATION:Ciné102
CATEGORIES:Conférence
ATTACH;FMTTYPE=image/jpeg:https://www.upgardrhodanien.com/wp-content/uploads/2025/08/conference-nuit-etoilee.jpg
END:VEVENT
BEGIN:VEVENT
DTSTART;TZID=UTC:20251124T183000
DTEND;TZID=UTC:20251124T193000
DTSTAMP:20260422T030942
CREATED:20250822T142247Z
LAST-MODIFIED:20250822T142247Z
UID:4838-1764009000-1764012600@www.upgardrhodanien.com
SUMMARY:Comment protéger les enfants des violences ?
DESCRIPTION:Délie MULLER\, Présidente d’honneur DEI Gard\nMarie-Paule GIRAULT\, Vice présidente DEI Gard\nLiliane HUGUET\, co présidente DEI France \nAujourd’hui en France\, on dénombre près de 15 millions d’enfants. Une première initiative internationale pour protéger l’enfance date de 1924 avec la Déclaration des Droits de l’Enfant qui répond à la situation des victimes et orphelins de guerre.\nUn siècle plus tard\, les moins de 18 ans sont considérés comme des personnes à part entière\, avec des émotions\, des sentiments et le droit au respect.\nComment la Convention Internationale des Droits de l’Enfant (CIDE)\, signée en 1989 par près de 200 pays\, est appliquée aujourd’hui en France ? Alors qu’on estime actuellement qu’un enfant sur dix subit des violences sexuelles intrafamiliales\, comment faire reculer les violences faites aux enfants\, en particulier l’inceste ? \nEn partenariat avec le DEI Gard et dans le cadre de la Semaine des Droits de l’enfant \nInscriptions : lien Internet indiqué par mail pour les adhérents ou sur le site Internet (www.upgardrhodanien.com ).\nRenseignements : 06 37 49 43 45 \nConférences - Films : Mode d'emploi\nLe programme des conférences et des films indiqué peut être amené à être modifié en cours d’année. Il est recommandé de vérifier sur le site Internet de l’association. \nIl est aussi recommandé de s’inscrire à l’avance (au plus tard la veille de la date de la conférence et au plus tôt une semaine avant la conférence) compte tenu du nombre de places disponibles limité. Pour chaque conférence\, inscription en ligne sur le lien indiqué sur le mail d’information ou sur le site Internet (www.upgardrhodanien.com). \nLes entrées sont payantes : 3 € pour les adhérents\, 6 € pour les non adhérents. Possibilité de prendre une carte PASS pour les adhérents : abonnements de 10 conférences (au choix) pour 20 €. La carte PASS 2022-2023 pourra servir pour les conférences programmées de septembre 2023 à mai 2024. \nLes conférences du Lundi ont lieu au CINÉ 102 (Pont-Saint-Esprit) à 18 h 30. Exceptionnellement\, certaines conférences pourront se dérouler sur un autre lieu.\nEnfin\, pour les films\, les tarifs d’entrée seront ceux pratiqués par le Ciné 102. Il n’y aura pas d’inscription préalable.
URL:https://www.upgardrhodanien.com/conference/comment-proteger-les-enfants-des-violences/
LOCATION:Ciné102
CATEGORIES:Conférence
ATTACH;FMTTYPE=image/jpeg:https://www.upgardrhodanien.com/wp-content/uploads/2025/08/conference-droit-des-enfants.jpg
END:VEVENT
END:VCALENDAR