BEGIN:VCALENDAR
VERSION:2.0
PRODID:-//UPGR - ECPv6.15.18//NONSGML v1.0//EN
CALSCALE:GREGORIAN
METHOD:PUBLISH
X-WR-CALNAME:UPGR
X-ORIGINAL-URL:https://www.upgardrhodanien.com
X-WR-CALDESC:Évènements pour UPGR
REFRESH-INTERVAL;VALUE=DURATION:PT1H
X-Robots-Tag:noindex
X-PUBLISHED-TTL:PT1H
BEGIN:VTIMEZONE
TZID:UTC
BEGIN:STANDARD
TZOFFSETFROM:+0000
TZOFFSETTO:+0000
TZNAME:UTC
DTSTART:20240101T000000
END:STANDARD
END:VTIMEZONE
BEGIN:VEVENT
DTSTART;TZID=UTC:20251201T183000
DTEND;TZID=UTC:20251201T183000
DTSTAMP:20260422T011447
CREATED:20250819T105302Z
LAST-MODIFIED:20250822T150703Z
UID:4844-1764613800-1764613800@www.upgardrhodanien.com
SUMMARY:Du boutiquier à la grande distribution de 1950 à 1980
DESCRIPTION:Bernard REVERCHON\nHistorien \nC’est la période plus contemporaine dite des 30 glorieuses (1950/1980) qui sera parcourue avec son contexte économique et environnemental.\nSeront présentés les principaux personnages qui ont inventé et mis en œuvre la Grande Distribution à savoir l’industrialisation du commerce de détail français.\nLes grandes surfaces se multiplieront\, au détriment du petit commerce de détail et des centres villes. \nInscriptions : lien Internet indiqué par mail pour les adhérents ou sur le site Internet (www.upgardrhodanien.com).\nRenseignements : 06 37 49 43 45 \nConférences - Films : Mode d'emploi\nLe programme des conférences et des films indiqué peut être amené à être modifié en cours d’année. Il est recommandé de vérifier sur le site Internet de l’association. \nIl est aussi recommandé de s’inscrire à l’avance (au plus tard la veille de la date de la conférence et au plus tôt une semaine avant la conférence) compte tenu du nombre de places disponibles limité. Pour chaque conférence\, inscription en ligne sur le lien indiqué sur le mail d’information ou sur le site Internet (www.upgardrhodanien.com). \nLes entrées sont payantes : 3 € pour les adhérents\, 6 € pour les non adhérents. Possibilité de prendre une carte PASS pour les adhérents : abonnements de 10 conférences (au choix) pour 20 €. La carte PASS 2022-2023 pourra servir pour les conférences programmées de septembre 2023 à mai 2024. \nLes conférences du Lundi ont lieu au CINÉ 102 (Pont-Saint-Esprit) à 18 h 30. Exceptionnellement\, certaines conférences pourront se dérouler sur un autre lieu.\nEnfin\, pour les films\, les tarifs d’entrée seront ceux pratiqués par le Ciné 102. Il n’y aura pas d’inscription préalable.
URL:https://www.upgardrhodanien.com/conference/du-boutiquier-a-la-grande-distribution-de-1950-a-1980/
LOCATION:Ciné 102\, La Cazerne\, Pont-Saint-Esprit\, Gard\, 30130\, France
CATEGORIES:Conférence
ATTACH;FMTTYPE=image/jpeg:https://www.upgardrhodanien.com/wp-content/uploads/2024/08/DU-BOUTIQUIER-A-LA-GRANDE-DISTRIBUTION-de-1950-a-1980.jpg
END:VEVENT
BEGIN:VEVENT
DTSTART;TZID=UTC:20251208T183000
DTEND;TZID=UTC:20251208T183000
DTSTAMP:20260422T011447
CREATED:20240827T090655Z
LAST-MODIFIED:20250822T141610Z
UID:4325-1765218600-1765218600@www.upgardrhodanien.com
SUMMARY:La vie au moyen âge : héritage et idéal moderne
DESCRIPTION:Renaud LAGARDE\nMédiateur culturel pour le Centre des Monuments Nationaux au Fort Saint André à Villeneuve-lès-Avignon.\nAnimateur\, conteur\, comédien\, créateur et musicien. \nLe Moyen Âge était-il aussi sombre que notre vision contemporaine nous le suggère ?\nQu’en est-il de ses nombreuses inventions\, de son héritage dans notre société et des idées reçues qu’on lui attribue volontiers ?\nL’amour\, les couleurs\, la musique\, l’hygiène\, le futur… Comment nos ancêtres les percevaient-ils ?\nD’où vient cette idée de se marier ? Imaginait-on la société du futur ? Comment les troubadours ont révolutionné l’idée de l’amour ? D’où vient l’école ? Pourquoi les couleurs étaient-elles si importantes ? Mourrait-on tous à 30 ans ? Se lavait-on ? Parlait-on l’ancien français ? La Terre était-elle déjà ronde ?!\nLe conférencier tentera de répondre à ces questions avec recul et humour… \nInscriptions : lien Internet indiqué par mail pour les adhérents ou sur le site Internet (www.upgardrhodanien.com).\nRenseignements : 06 37 49 43 45 \nConférences - Films : Mode d'emploi\nLe programme des conférences et des films indiqué peut être amené à être modifié en cours d’année. Il est recommandé de vérifier sur le site Internet de l’association. \nIl est aussi recommandé de s’inscrire à l’avance (au plus tard la veille de la date de la conférence et au plus tôt une semaine avant la conférence) compte tenu du nombre de places disponibles limité. Pour chaque conférence\, inscription en ligne sur le lien indiqué sur le mail d’information ou sur le site Internet (www.upgardrhodanien.com). \nLes entrées sont payantes : 3 € pour les adhérents\, 6 € pour les non adhérents. Possibilité de prendre une carte PASS pour les adhérents : abonnements de 10 conférences (au choix) pour 20 €. La carte PASS 2022-2023 pourra servir pour les conférences programmées de septembre 2023 à mai 2024. \nLes conférences du Lundi ont lieu au CINÉ 102 (Pont-Saint-Esprit) à 18 h 30. Exceptionnellement\, certaines conférences pourront se dérouler sur un autre lieu.\nEnfin\, pour les films\, les tarifs d’entrée seront ceux pratiqués par le Ciné 102. Il n’y aura pas d’inscription préalable.
URL:https://www.upgardrhodanien.com/conference/la-vie-au-moyen-age-heritage-et-ideal-moderne/
LOCATION:Ciné 102\, La Cazerne\, Pont-Saint-Esprit\, Gard\, 30130\, France
CATEGORIES:Conférence
ATTACH;FMTTYPE=image/jpeg:https://www.upgardrhodanien.com/wp-content/uploads/2025/08/conference-moyen-age.jpg
END:VEVENT
BEGIN:VEVENT
DTSTART;TZID=UTC:20251215T183000
DTEND;TZID=UTC:20251215T183000
DTSTAMP:20260422T011447
CREATED:20250822T141521Z
LAST-MODIFIED:20250822T141521Z
UID:4846-1765823400-1765823400@www.upgardrhodanien.com
SUMMARY:Que peut-on attendre de l'exploration de l'hydrogène naturel ?
DESCRIPTION:Isabelle MORETTI\nGéologue\, membre de l’Académie des Technologies\,\nAncienne directrice scientifique d’Engie\, chercheur associée à l’UPPA et à SU \nL’hydrogène a pour l’instant été fabriqué\, avec un coût en énergie non négligeable\, mais il en existe aussi sous terre\, généré par l’interaction entre l’eau (H2O) et les roches. Si celles-ci sont riches en fer elles s’oxydent et l’hydrogène est libéré. Souvent\, il s’échappe alors dans l’atmosphère et crée des anomalies de végétation (comme ici au Brésil). Mais si une roche imperméable l’arrête\, une accumulation peut se former.  \nDans le cadre de la décarbonation de nos activités\, ces accumulations sont désormais activement recherchées\, en Australie\, aux USA mais aussi en France.  \nNous ferons le tour des zones prospectives et de ce que l’on peut attendre en tant que réserves\, en particulier dans la zone Pyrénéenne. L’activité étant récente tout n’est pas encore compris\, nous évoquerons aussi le besoin en recherche et comment se fait la prospection. \nInscriptions : lien Internet indiqué par mail pour les adhérents ou sur le site Internet (www.upgardrhodanien.com.\nRenseignements : 06 37 49 43 45 \nConférences - Films : Mode d'emploi\nLe programme des conférences et des films indiqué peut être amené à être modifié en cours d’année. Il est recommandé de vérifier sur le site Internet de l’association. \nIl est aussi recommandé de s’inscrire à l’avance (au plus tard la veille de la date de la conférence et au plus tôt une semaine avant la conférence) compte tenu du nombre de places disponibles limité. Pour chaque conférence\, inscription en ligne sur le lien indiqué sur le mail d’information ou sur le site Internet (www.upgardrhodanien.com). \nLes entrées sont payantes : 3 € pour les adhérents\, 6 € pour les non adhérents. Possibilité de prendre une carte PASS pour les adhérents : abonnements de 10 conférences (au choix) pour 20 €. La carte PASS 2022-2023 pourra servir pour les conférences programmées de septembre 2023 à mai 2024. \nLes conférences du Lundi ont lieu au CINÉ 102 (Pont-Saint-Esprit) à 18 h 30. Exceptionnellement\, certaines conférences pourront se dérouler sur un autre lieu.\nEnfin\, pour les films\, les tarifs d’entrée seront ceux pratiqués par le Ciné 102. Il n’y aura pas d’inscription préalable.
URL:https://www.upgardrhodanien.com/conference/que-peut-on-attendre-de-lexploration-de-lhydrogene-naturel/
LOCATION:Ciné 102\, La Cazerne\, Pont-Saint-Esprit\, Gard\, 30130\, France
CATEGORIES:Conférence
ATTACH;FMTTYPE=image/jpeg:https://www.upgardrhodanien.com/wp-content/uploads/2025/08/conference-hydrogene.jpg
END:VEVENT
END:VCALENDAR