BEGIN:VCALENDAR
VERSION:2.0
PRODID:-//UPGR - ECPv6.15.18//NONSGML v1.0//EN
CALSCALE:GREGORIAN
METHOD:PUBLISH
X-WR-CALNAME:UPGR
X-ORIGINAL-URL:https://www.upgardrhodanien.com
X-WR-CALDESC:Évènements pour UPGR
REFRESH-INTERVAL;VALUE=DURATION:PT1H
X-Robots-Tag:noindex
X-PUBLISHED-TTL:PT1H
BEGIN:VTIMEZONE
TZID:UTC
BEGIN:STANDARD
TZOFFSETFROM:+0000
TZOFFSETTO:+0000
TZNAME:UTC
DTSTART:20250101T000000
END:STANDARD
END:VTIMEZONE
BEGIN:VEVENT
DTSTART;TZID=UTC:20260202T183000
DTEND;TZID=UTC:20260202T193000
DTSTAMP:20260421T214622
CREATED:20250822T141122Z
LAST-MODIFIED:20250822T141122Z
UID:4859-1770057000-1770060600@www.upgardrhodanien.com
SUMMARY:Langue d'oc : Une brève histoire de la langue occitane
DESCRIPTION:Patrick LAPIERRE\nEnseignant retraité de l’Éducation Nationale\,\nPrésident de l’association M.A.R.P.OC (Maison d’Animation et de Recherche Populaire OCcitane) \nLa langue d’oc est apparue il y a plus de 1000 ans sur un territoire situé entre l’océan et les Alpes\, entre la Loire et la mer Méditerranée. Elle est aujourd’hui classée par l’UNESCO parmi les langues en danger de disparition.\nPourtant\, cette langue est celle d’un prix Nobel de littérature\, c’est aussi celle d’écrivains\, de poètes\, de chanteurs et c’est aussi celle de tout un peuple. \nMais connaît-on l’histoire de cette langue tantôt appelée patois\, provençal\, langue d’oc\, occitane ? \nInscriptions : lien Internet indiqué par mail pour les adhérents ou sur le site Internet (www.upgardrhodanien.com)\nRenseignements : 06 82 27 27 85 \nConférences - Films : Mode d'emploi\nLe programme des conférences et des films indiqué peut être amené à être modifié en cours d’année. Il est recommandé de vérifier sur le site Internet de l’association. \nIl est aussi recommandé de s’inscrire à l’avance (au plus tard la veille de la date de la conférence et au plus tôt une semaine avant la conférence) compte tenu du nombre de places disponibles limité. Pour chaque conférence\, inscription en ligne sur le lien indiqué sur le mail d’information ou sur le site Internet (www.upgardrhodanien.com). \nLes entrées sont payantes : 3 € pour les adhérents\, 6 € pour les non adhérents. Possibilité de prendre une carte PASS pour les adhérents : abonnements de 10 conférences (au choix) pour 20 €. La carte PASS 2022-2023 pourra servir pour les conférences programmées de septembre 2023 à mai 2024. \nLes conférences du Lundi ont lieu au CINÉ 102 (Pont-Saint-Esprit) à 18 h 30. Exceptionnellement\, certaines conférences pourront se dérouler sur un autre lieu.\nEnfin\, pour les films\, les tarifs d’entrée seront ceux pratiqués par le Ciné 102. Il n’y aura pas d’inscription préalable.
URL:https://www.upgardrhodanien.com/conference/langue-doc-une-breve-histoire-de-la-langue-occitane/
LOCATION:Ciné 102\, La Cazerne\, Pont-Saint-Esprit\, Gard\, 30130\, France
CATEGORIES:Conférence
ATTACH;FMTTYPE=image/jpeg:https://www.upgardrhodanien.com/wp-content/uploads/2025/08/conference-languedocc.jpg
END:VEVENT
BEGIN:VEVENT
DTSTART;TZID=UTC:20260209T183000
DTEND;TZID=UTC:20260209T193000
DTSTAMP:20260421T214622
CREATED:20250822T141027Z
LAST-MODIFIED:20250822T141040Z
UID:4861-1770661800-1770665400@www.upgardrhodanien.com
SUMMARY:Les empires ont-ils disparu ?
DESCRIPTION:Jean-Louis KRETZ\nProfesseur émérite\, agrégé de géographie \nPlus d’une centaine d’empires ont existé depuis 4000 ans. Durables (romain\, chinois\, ottoman…) ou éphémères (mongol\, carolingien\, napoléonien…)\, les empires n’ont pas survécu au modèle de l’état-nation. Pourtant les héritages des empires subsistent et le concept impérial reste vivant.\nDans un essai très illustré « d’histoire globale »\, et sans entrer dans un vaste inventaire\, nous explorerons les soubresauts mais aussi la permanence du rêve impérial. \nInscriptions : lien Internet indiqué par mail pour les adhérents ou sur le site Internet (www.upgardrhodanien.com)\nRenseignements : 06 82 27 27 85 \nConférences - Films : Mode d'emploi\nLe programme des conférences et des films indiqué peut être amené à être modifié en cours d’année. Il est recommandé de vérifier sur le site Internet de l’association. \nIl est aussi recommandé de s’inscrire à l’avance (au plus tard la veille de la date de la conférence et au plus tôt une semaine avant la conférence) compte tenu du nombre de places disponibles limité. Pour chaque conférence\, inscription en ligne sur le lien indiqué sur le mail d’information ou sur le site Internet (www.upgardrhodanien.com). \nLes entrées sont payantes : 3 € pour les adhérents\, 6 € pour les non adhérents. Possibilité de prendre une carte PASS pour les adhérents : abonnements de 10 conférences (au choix) pour 20 €. La carte PASS 2022-2023 pourra servir pour les conférences programmées de septembre 2023 à mai 2024. \nLes conférences du Lundi ont lieu au CINÉ 102 (Pont-Saint-Esprit) à 18 h 30. Exceptionnellement\, certaines conférences pourront se dérouler sur un autre lieu.\nEnfin\, pour les films\, les tarifs d’entrée seront ceux pratiqués par le Ciné 102. Il n’y aura pas d’inscription préalable.
URL:https://www.upgardrhodanien.com/conference/les-empires-ont-ils-disparu/
LOCATION:Ciné 102\, La Cazerne\, Pont-Saint-Esprit\, Gard\, 30130\, France
CATEGORIES:Conférence
ATTACH;FMTTYPE=image/jpeg:https://www.upgardrhodanien.com/wp-content/uploads/2025/08/conference-empires.jpg
END:VEVENT
BEGIN:VEVENT
DTSTART;TZID=UTC:20260216T183000
DTEND;TZID=UTC:20260216T193000
DTSTAMP:20260421T214622
CREATED:20250822T140954Z
LAST-MODIFIED:20250822T140954Z
UID:4863-1771266600-1771270200@www.upgardrhodanien.com
SUMMARY:Peintures rupestres contemporaines : Le Street-Art !
DESCRIPTION:Salomé MORIN\nDiplômée de l’Ecole nationale supérieure des Beaux-Arts \nLe Street-Art\, en français « art de la rue » ou « art urbain »\, se déploie sur les murs des villes. À différencier absolument du graffiti ou du simple tag.\nIl devient une véritable forme d’art contemporain\, porteur de messages forts. À l’origine clandestines\, subversives et éphémères\, ces œuvres populaires quittent désormais l’illégalité et se font même une place dans les galeries et les musées.\nCependant\, le Street-Art a su rester l’art de la contestation et de la liberté\, de la poésie et de l’humour – beaucoup d’humour ! – à travers des techniques variées et surprenantes.\nC’est un art porteur de messages humanistes et demandant de véritables savoir-faire. Salomé Morin nous fera découvrir les œuvres emblématiques et spectaculaires. \nInscriptions : lien Internet indiqué par mail pour les adhérents ou sur le site Internet (www.upgardrhodanien.com)\nRenseignements : 06 82 27 27 85 \nConférences - Films : Mode d'emploi\nLe programme des conférences et des films indiqué peut être amené à être modifié en cours d’année. Il est recommandé de vérifier sur le site Internet de l’association. \nIl est aussi recommandé de s’inscrire à l’avance (au plus tard la veille de la date de la conférence et au plus tôt une semaine avant la conférence) compte tenu du nombre de places disponibles limité. Pour chaque conférence\, inscription en ligne sur le lien indiqué sur le mail d’information ou sur le site Internet (www.upgardrhodanien.com). \nLes entrées sont payantes : 3 € pour les adhérents\, 6 € pour les non adhérents. Possibilité de prendre une carte PASS pour les adhérents : abonnements de 10 conférences (au choix) pour 20 €. La carte PASS 2022-2023 pourra servir pour les conférences programmées de septembre 2023 à mai 2024. \nLes conférences du Lundi ont lieu au CINÉ 102 (Pont-Saint-Esprit) à 18 h 30. Exceptionnellement\, certaines conférences pourront se dérouler sur un autre lieu.\nEnfin\, pour les films\, les tarifs d’entrée seront ceux pratiqués par le Ciné 102. Il n’y aura pas d’inscription préalable.
URL:https://www.upgardrhodanien.com/conference/peintures-rupestres-contemporaines-le-street-art/
LOCATION:Ciné 102\, La Cazerne\, Pont-Saint-Esprit\, Gard\, 30130\, France
CATEGORIES:Conférence
ATTACH;FMTTYPE=image/jpeg:https://www.upgardrhodanien.com/wp-content/uploads/2025/08/photo-street-art.jpg
END:VEVENT
END:VCALENDAR