BEGIN:VCALENDAR
VERSION:2.0
PRODID:-//UPGR - ECPv6.15.18//NONSGML v1.0//EN
CALSCALE:GREGORIAN
METHOD:PUBLISH
X-WR-CALNAME:UPGR
X-ORIGINAL-URL:https://www.upgardrhodanien.com
X-WR-CALDESC:Évènements pour UPGR
REFRESH-INTERVAL;VALUE=DURATION:PT1H
X-Robots-Tag:noindex
X-PUBLISHED-TTL:PT1H
BEGIN:VTIMEZONE
TZID:UTC
BEGIN:STANDARD
TZOFFSETFROM:+0000
TZOFFSETTO:+0000
TZNAME:UTC
DTSTART:20250101T000000
END:STANDARD
END:VTIMEZONE
BEGIN:VEVENT
DTSTART;TZID=UTC:20260309T183000
DTEND;TZID=UTC:20260309T193000
DTSTAMP:20260421T195643
CREATED:20250822T145223Z
LAST-MODIFIED:20250822T145223Z
UID:4865-1773081000-1773084600@www.upgardrhodanien.com
SUMMARY:la différentiation sexuelle en démocratie
DESCRIPTION:Jean DUCRET\nDocteur en droit public\,\nAuteur du livre « La prodigieuse histoire de la philosophie des Droits de l’homme » \nC’est au XVIIIe siècle que s’est imposée l’idée d’égalité entre les êtres humains\, une égalité à établir contre les inégalités de la société traditionnelle. C’est au nom de cette égalité que la démocratie est entrée dans le monde. Que devient\, dans la société démocratique moderne placée sous le règne de l’égalité\, la différence entre homme et femme qui est longtemps apparue comme étant la différence naturelle par excellence ?\nDans la sphère politique\, les droits de vote et d’éligibilité obtenues par les femmes n’ont pas réussi à empêcher que les hommes soient surreprésentés. \nDans un contexte de crise et de régression des droits et des libertés et en réaction à l’avancée des droits des femmes\, on assiste actuellement à une montée en puissance inquiétante\, notamment chez les jeunes\, du masculinisme.\nL’inégalité entre hommes et femmes n’existe plus en droit mais reste profondément ancrée dans la culture. \n  \nEn partenariat avec « Femmes du Monde » et Amnesty International\, dans le cadre de la Semaine des Droits des femmes.  \nInscriptions : lien Internet indiqué par mail pour les adhérents ou sur le site Internet (www.upgardrhodanien.com)\nRenseignements : 06 37 49 43 45 \nConférences - Films : Mode d'emploi\nLe programme des conférences et des films indiqué peut être amené à être modifié en cours d’année. Il est recommandé de vérifier sur le site Internet de l’association. \nIl est aussi recommandé de s’inscrire à l’avance (au plus tard la veille de la date de la conférence et au plus tôt une semaine avant la conférence) compte tenu du nombre de places disponibles limité. Pour chaque conférence\, inscription en ligne sur le lien indiqué sur le mail d’information ou sur le site Internet (www.upgardrhodanien.com). \nLes entrées sont payantes : 3 € pour les adhérents\, 6 € pour les non adhérents. Possibilité de prendre une carte PASS pour les adhérents : abonnements de 10 conférences (au choix) pour 20 €. La carte PASS 2022-2023 pourra servir pour les conférences programmées de septembre 2023 à mai 2024. \nLes conférences du Lundi ont lieu au CINÉ 102 (Pont-Saint-Esprit) à 18 h 30. Exceptionnellement\, certaines conférences pourront se dérouler sur un autre lieu.\nEnfin\, pour les films\, les tarifs d’entrée seront ceux pratiqués par le Ciné 102. Il n’y aura pas d’inscription préalable.
URL:https://www.upgardrhodanien.com/conference/la-differentiation-sexuelle-en-democratie/
LOCATION:Ciné 102\, La Cazerne\, Pont-Saint-Esprit\, Gard\, 30130\, France
CATEGORIES:Conférence
ATTACH;FMTTYPE=image/jpeg:https://www.upgardrhodanien.com/wp-content/uploads/2025/08/conference-differentiation-sexuelle.jpg
END:VEVENT
BEGIN:VEVENT
DTSTART;TZID=UTC:20260316T183000
DTEND;TZID=UTC:20260316T193000
DTSTAMP:20260421T195643
CREATED:20250822T140830Z
LAST-MODIFIED:20260310T094259Z
UID:4867-1773685800-1773689400@www.upgardrhodanien.com
SUMMARY:Histoire géologique de l’île de la réunion
DESCRIPTION:Emile RIGO\, Docteur en Géologie\, Membre de la Société Géologique de France – S.G.F.\nYves BAILLEY\, Membre de L’Association Volcanologique Européenne – L.A.V.E. \nNé il y a 65 millions d’années\, lors d’une éruption exceptionnelle dont on trouve encore la trace aux Indes\, le volcan de la Réunion n’a cessé de croître pour devenir ce qu’il est aujourd’hui.\nEn matière de spectacle\, rien ne manque… Les éruptions\, feux d’artifices naturels\, sont très fréquentes.\nL’île de la Réunion\, ce bout de terre présente deux faciès. Celui d’un désert sauvage de feu et de roches noires et celui d’une île fleurie\, colorée\, affublée d’un bord de mer idyllique\, et d’une faune en grande partie endémique. \nATTENTION : la conférence se déroulera exceptionnellement à la Scène chapelle de Pont-Saint-Esprit\, Place saint Pierre\nInscriptions : lien Internet indiqué par mail pour les adhérents ou sur le site Internet (www.upgardrhodanien.com)\nRenseignements : 06 37 49 43 45 \nConférences - Films : Mode d'emploi\nLe programme des conférences et des films indiqué peut être amené à être modifié en cours d’année. Il est recommandé de vérifier sur le site Internet de l’association. \nIl est aussi recommandé de s’inscrire à l’avance (au plus tard la veille de la date de la conférence et au plus tôt une semaine avant la conférence) compte tenu du nombre de places disponibles limité. Pour chaque conférence\, inscription en ligne sur le lien indiqué sur le mail d’information ou sur le site Internet (www.upgardrhodanien.com). \nLes entrées sont payantes : 3 € pour les adhérents\, 6 € pour les non adhérents. Possibilité de prendre une carte PASS pour les adhérents : abonnements de 10 conférences (au choix) pour 20 €. La carte PASS 2022-2023 pourra servir pour les conférences programmées de septembre 2023 à mai 2024. \nLes conférences du Lundi ont lieu au CINÉ 102 (Pont-Saint-Esprit) à 18 h 30. Exceptionnellement\, certaines conférences pourront se dérouler sur un autre lieu.\nEnfin\, pour les films\, les tarifs d’entrée seront ceux pratiqués par le Ciné 102. Il n’y aura pas d’inscription préalable.
URL:https://www.upgardrhodanien.com/conference/histoire-geologique-de-lile-de-la-reunion/
LOCATION:Scène Chapelle
CATEGORIES:Conférence
ATTACH;FMTTYPE=image/jpeg:https://www.upgardrhodanien.com/wp-content/uploads/2025/08/conference-ile-de-la-reunion.jpg
END:VEVENT
BEGIN:VEVENT
DTSTART;TZID=UTC:20260323T183000
DTEND;TZID=UTC:20260323T193000
DTSTAMP:20260421T195643
CREATED:20250822T145327Z
LAST-MODIFIED:20250822T145327Z
UID:4869-1774290600-1774294200@www.upgardrhodanien.com
SUMMARY:À la racine de l'extinction de masse du vivant
DESCRIPTION:Hélène GROSBOIS\nAncienne stratège dans la finance et dans les politiques publiques à haut niveau.\nPaysanne\, auteure du livre « La disparition du vivant et moi »\nPrésidente et cofondatrice de l’ONG Chemical Interests. \nUne conférence qui retrace l’histoire du Vivant sur Terre\, ce qui le constitue\, où il se trouve. Quelles sont les racines de l’extinction contemporaine ? Comment nous en sommes arrivés là ?\nQuelles sont les conséquences sanitaires\, environnementales et sociales ? Comment repenser notre rapport au Vivant ?\nQuelles solutions pour sauvegarder la biodiversité et développer une agriculture qui préserve le Vivant tout en permettant de produire de manière « intensive » ?\nLa conférencière proposera des solutions qu’elle expérimente elle-même. \nConférence organisée en partenariat avec GÉNÉRATIONS FUTURES  \nInscriptions : lien Internet indiqué par mail pour les adhérents ou sur le site Internet (www.upgardrhodanien.com)\nRenseignements : 06 37 49 43 45 \nConférences - Films : Mode d'emploi\nLe programme des conférences et des films indiqué peut être amené à être modifié en cours d’année. Il est recommandé de vérifier sur le site Internet de l’association. \nIl est aussi recommandé de s’inscrire à l’avance (au plus tard la veille de la date de la conférence et au plus tôt une semaine avant la conférence) compte tenu du nombre de places disponibles limité. Pour chaque conférence\, inscription en ligne sur le lien indiqué sur le mail d’information ou sur le site Internet (www.upgardrhodanien.com). \nLes entrées sont payantes : 3 € pour les adhérents\, 6 € pour les non adhérents. Possibilité de prendre une carte PASS pour les adhérents : abonnements de 10 conférences (au choix) pour 20 €. La carte PASS 2022-2023 pourra servir pour les conférences programmées de septembre 2023 à mai 2024. \nLes conférences du Lundi ont lieu au CINÉ 102 (Pont-Saint-Esprit) à 18 h 30. Exceptionnellement\, certaines conférences pourront se dérouler sur un autre lieu.\nEnfin\, pour les films\, les tarifs d’entrée seront ceux pratiqués par le Ciné 102. Il n’y aura pas d’inscription préalable.
URL:https://www.upgardrhodanien.com/conference/a-la-racine-de-lextinction-de-masse-du-vivant/
LOCATION:Ciné 102\, La Cazerne\, Pont-Saint-Esprit\, Gard\, 30130\, France
CATEGORIES:Conférence
ATTACH;FMTTYPE=image/jpeg:https://www.upgardrhodanien.com/wp-content/uploads/2025/08/conference-extinction.jpg
END:VEVENT
BEGIN:VEVENT
DTSTART;TZID=UTC:20260330T183000
DTEND;TZID=UTC:20260330T193000
DTSTAMP:20260421T195643
CREATED:20250822T145255Z
LAST-MODIFIED:20250822T145255Z
UID:4871-1774895400-1774899000@www.upgardrhodanien.com
SUMMARY:Dominique Vivant Denon : l’art de s’illustrer en traversant les régimes.
DESCRIPTION:Marc BLANCHARD\nProfesseur Agrégé en mathématiques. Inspecteur d’académie \nNatif de Chalon sur Saône\, Dominique Vivant Denon s’introduit en 1764 à la cour de Louis XV dont il devient un favori. Il mène de la Russie à Naples une carrière diplomatique sous Louis XVI\, puis devient un protégé de Barras\, puis de Robespierre sous la Terreur.\nIl accompagne ensuite Bonaparte\, en Égypte. Celui-ci\, empereur\, lui confie le musée du Louvre qu’il enrichit et organise avant que les coalisés\, vainqueurs à Waterloo\, ne récupèrent la plupart des œuvres qui leur avaient été prises. Sous la Restauration\, rentré en grâce après une éclipse\, il reçoit les célébrités chez lui\, venues admirer sa collection personnelle. \nSans jamais aliéner sa liberté de penser et d’agir\, Vivant Denon\, dessinateur\, graveur et conteur de talent\, parfois libertin\, a su protéger les artistes de son temps et permis à Paris de devenir durablement une capitale artistique. \nInscriptions : lien Internet indiqué par mail pour les adhérents ou sur le site Internet (www.upgardrhodanien.com)\nRenseignements : 06 37 49 43 45 \nConférences - Films : Mode d'emploi\nLe programme des conférences et des films indiqué peut être amené à être modifié en cours d’année. Il est recommandé de vérifier sur le site Internet de l’association. \nIl est aussi recommandé de s’inscrire à l’avance (au plus tard la veille de la date de la conférence et au plus tôt une semaine avant la conférence) compte tenu du nombre de places disponibles limité. Pour chaque conférence\, inscription en ligne sur le lien indiqué sur le mail d’information ou sur le site Internet (www.upgardrhodanien.com). \nLes entrées sont payantes : 3 € pour les adhérents\, 6 € pour les non adhérents. Possibilité de prendre une carte PASS pour les adhérents : abonnements de 10 conférences (au choix) pour 20 €. La carte PASS 2022-2023 pourra servir pour les conférences programmées de septembre 2023 à mai 2024. \nLes conférences du Lundi ont lieu au CINÉ 102 (Pont-Saint-Esprit) à 18 h 30. Exceptionnellement\, certaines conférences pourront se dérouler sur un autre lieu.\nEnfin\, pour les films\, les tarifs d’entrée seront ceux pratiqués par le Ciné 102. Il n’y aura pas d’inscription préalable.
URL:https://www.upgardrhodanien.com/conference/dominique-vivant-denon-lart-de-sillustrer-en-traversant-les-regimes/
LOCATION:Ciné 102\, La Cazerne\, Pont-Saint-Esprit\, Gard\, 30130\, France
CATEGORIES:Conférence
ATTACH;FMTTYPE=image/jpeg:https://www.upgardrhodanien.com/wp-content/uploads/2025/08/conference-dominique-vivant-denon.jpg
END:VEVENT
END:VCALENDAR