BEGIN:VCALENDAR
VERSION:2.0
PRODID:-//UPGR - ECPv6.15.18//NONSGML v1.0//EN
CALSCALE:GREGORIAN
METHOD:PUBLISH
X-WR-CALNAME:UPGR
X-ORIGINAL-URL:https://www.upgardrhodanien.com
X-WR-CALDESC:Évènements pour UPGR
REFRESH-INTERVAL;VALUE=DURATION:PT1H
X-Robots-Tag:noindex
X-PUBLISHED-TTL:PT1H
BEGIN:VTIMEZONE
TZID:UTC
BEGIN:STANDARD
TZOFFSETFROM:+0000
TZOFFSETTO:+0000
TZNAME:UTC
DTSTART:20230101T000000
END:STANDARD
END:VTIMEZONE
BEGIN:VEVENT
DTSTART;TZID=UTC:20241125T183000
DTEND;TZID=UTC:20241125T183000
DTSTAMP:20260422T215720
CREATED:20240827T092009Z
LAST-MODIFIED:20241012T141706Z
UID:4282-1732559400-1732559400@www.upgardrhodanien.com
SUMMARY:La lumière en peinture\, des ombres noires aux ombres mauves
DESCRIPTION:Capturer la lumière est un pari exaltant\, jamais définitivement gagné par les peintres. Ils « mettent en lumière » le sujet de leurs tableaux : elle caresse les matières des objets\, voile d’ombre ou illumine les paysages\, symbolise la psyché des personnages.\nLa lumière nous « éclaire » sur le sens du tableau. Mais elle prend une autre dimension pour les impressionnistes : la palette des couleurs change\, les ombres noires deviennent des ombres bleutées\, mais surtout la lumière échappe à son rôle utilitaire pour devenir le véritable sujet du tableau !\n« Un matin\, l’un de nous manquant de noir\, se servit de bleu : l’impressionnisme était né. » Auguste Renoir \nConférencière : Salomé MORIN\nDiplomée de l’Ecole nationale Supérieure des beaux-Arts \n– Début des inscriptions : Une semaine avant la conférence\n– Renseignements : 06 37 49 43 45\n– Prix adhérents : 3€ – Prix non-adhérents : 6€ \nS’inscrireConférences - Films : Mode d'emploi\nLe programme des conférences et des films indiqué peut être amené à être modifié en cours d’année. Il est recommandé de vérifier sur le site Internet de l’association. \nIl est aussi recommandé de s’inscrire à l’avance (au plus tard la veille de la date de la conférence et au plus tôt une semaine avant la conférence) compte tenu du nombre de places disponibles limité. Pour chaque conférence\, inscription en ligne sur le lien indiqué sur le mail d’information ou sur le site Internet (www.upgardrhodanien.com). \nLes entrées sont payantes : 3 € pour les adhérents\, 6 € pour les non adhérents. Possibilité de prendre une carte PASS pour les adhérents : abonnements de 10 conférences (au choix) pour 20 €. La carte PASS 2022-2023 pourra servir pour les conférences programmées de septembre 2023 à mai 2024. \nLes conférences du Lundi ont lieu au CINÉ 102 (Pont-Saint-Esprit) à 18 h 30. Exceptionnellement\, certaines conférences pourront se dérouler sur un autre lieu.\nEnfin\, pour les films\, les tarifs d’entrée seront ceux pratiqués par le Ciné 102. Il n’y aura pas d’inscription préalable.
URL:https://www.upgardrhodanien.com/conference/la-lumiere-en-peinture-des-ombres-noires-aux-ombres-mauves/
LOCATION:Ciné 102\, La Cazerne\, Pont-Saint-Esprit\, Gard\, 30130\, France
CATEGORIES:Conférence
ATTACH;FMTTYPE=image/jpeg:https://www.upgardrhodanien.com/wp-content/uploads/2024/08/La-lumiere-en-peinture-des-ombres-noires-aux-ombres-mauves.jpg
END:VEVENT
END:VCALENDAR