BEGIN:VCALENDAR
VERSION:2.0
PRODID:-//UPGR - ECPv6.15.18//NONSGML v1.0//EN
CALSCALE:GREGORIAN
METHOD:PUBLISH
X-ORIGINAL-URL:https://www.upgardrhodanien.com
X-WR-CALDESC:Évènements pour UPGR
REFRESH-INTERVAL;VALUE=DURATION:PT1H
X-Robots-Tag:noindex
X-PUBLISHED-TTL:PT1H
BEGIN:VTIMEZONE
TZID:UTC
BEGIN:STANDARD
TZOFFSETFROM:+0000
TZOFFSETTO:+0000
TZNAME:UTC
DTSTART:20240101T000000
END:STANDARD
END:VTIMEZONE
BEGIN:VEVENT
DTSTART;TZID=UTC:20250210T183000
DTEND;TZID=UTC:20250210T183000
DTSTAMP:20260422T185547
CREATED:20240827T091406Z
LAST-MODIFIED:20240930T130326Z
UID:4311-1739212200-1739212200@www.upgardrhodanien.com
SUMMARY:Le surpeuplement planétaire pour bientôt ?
DESCRIPTION:La menace d’une explosion démographique de la planète est-elle dépassée ?\nLes craintes ne sont-elles pas devenues l’explosion urbaine et le vieillissement rapide qui touchent tant de pays ?\nForce est de constater que les grands medias mettent rarement en lumière ces questions\, alors qu’elles sont fondamentales pour gérer le réchauffement climatique\, les migrations\, et l’alimentation de nombres de pays. Nous éclaircirons au mieux ces questions. \nConférencier : Jean-Louis KRETZ\nProfesseur émérite\, agrégé de géographie \n– Début des inscriptions : Une semaine avant la conférence\n– Renseignements : 06 37 49 43 45\n– Prix adhérents : 3€ – Prix non-adhérents : 6€ \nS’inscrireConférences - Films : Mode d'emploi\nLe programme des conférences et des films indiqué peut être amené à être modifié en cours d’année. Il est recommandé de vérifier sur le site Internet de l’association. \nIl est aussi recommandé de s’inscrire à l’avance (au plus tard la veille de la date de la conférence et au plus tôt une semaine avant la conférence) compte tenu du nombre de places disponibles limité. Pour chaque conférence\, inscription en ligne sur le lien indiqué sur le mail d’information ou sur le site Internet (www.upgardrhodanien.com). \nLes entrées sont payantes : 3 € pour les adhérents\, 6 € pour les non adhérents. Possibilité de prendre une carte PASS pour les adhérents : abonnements de 10 conférences (au choix) pour 20 €. La carte PASS 2022-2023 pourra servir pour les conférences programmées de septembre 2023 à mai 2024. \nLes conférences du Lundi ont lieu au CINÉ 102 (Pont-Saint-Esprit) à 18 h 30. Exceptionnellement\, certaines conférences pourront se dérouler sur un autre lieu.\nEnfin\, pour les films\, les tarifs d’entrée seront ceux pratiqués par le Ciné 102. Il n’y aura pas d’inscription préalable.
URL:https://www.upgardrhodanien.com/conference/le-surpeuplement-planetaire-pour-bientot/
LOCATION:Ciné 102\, La Cazerne\, Pont-Saint-Esprit\, Gard\, 30130\, France
CATEGORIES:Conférence
ATTACH;FMTTYPE=image/jpeg:https://www.upgardrhodanien.com/wp-content/uploads/2024/08/le-surpeuplement-planetaire-pour-bientot-.jpg
END:VEVENT
END:VCALENDAR