BEGIN:VCALENDAR
VERSION:2.0
PRODID:-//UPGR - ECPv6.15.18//NONSGML v1.0//EN
CALSCALE:GREGORIAN
METHOD:PUBLISH
X-WR-CALNAME:UPGR
X-ORIGINAL-URL:https://www.upgardrhodanien.com
X-WR-CALDESC:Évènements pour UPGR
REFRESH-INTERVAL;VALUE=DURATION:PT1H
X-Robots-Tag:noindex
X-PUBLISHED-TTL:PT1H
BEGIN:VTIMEZONE
TZID:UTC
BEGIN:STANDARD
TZOFFSETFROM:+0000
TZOFFSETTO:+0000
TZNAME:UTC
DTSTART:20240101T000000
END:STANDARD
END:VTIMEZONE
BEGIN:VEVENT
DTSTART;TZID=UTC:20250303T183000
DTEND;TZID=UTC:20250303T183000
DTSTAMP:20260422T181104
CREATED:20240827T091339Z
LAST-MODIFIED:20250226T100349Z
UID:4313-1741026600-1741026600@www.upgardrhodanien.com
SUMMARY:Canal de Suez : Histoire de sa construction et enjeux actuels
DESCRIPTION:Le premier percement de l’isthme de Suez est dû à Sésostris III\, pharaon régnant vers 1850 avant notre ère. Ce canal a été recreusé sous Darius puis entretenu par les empereurs romains jusqu’à ce qu’il soit bouché par un calife vers 760.\nC’est au XIXème siècle qu’au prix d’un chantier considérable\, Ferdinand de Lesseps a pu recreuser un nouveau canal qui depuis est devenu un enjeu international en captant 10% du trafic maritime.\nLe conférencier décrira ses modifications permanentes et ses rôles géopolitique et environnemental et dans la circulation des informations ou des communications pour s’adapter aux évolutions actuelles.\nLe canal est aujourd’hui au cœur de l’actualité des conflits du Moyen Orient et représente des enjeux géopolitiques considérables. \nConférencier : Marc BLANCHARD\nProfesseur agrégé en mathématiques. Inspecteur d’académie \n– Début des inscriptions : Une semaine avant la conférence\n– Renseignements : 06 37 49 43 45\n– Prix adhérents : 3€ – Prix non-adhérents : 6€ \nS’inscrireConférences - Films : Mode d'emploi\nLe programme des conférences et des films indiqué peut être amené à être modifié en cours d’année. Il est recommandé de vérifier sur le site Internet de l’association. \nIl est aussi recommandé de s’inscrire à l’avance (au plus tard la veille de la date de la conférence et au plus tôt une semaine avant la conférence) compte tenu du nombre de places disponibles limité. Pour chaque conférence\, inscription en ligne sur le lien indiqué sur le mail d’information ou sur le site Internet (www.upgardrhodanien.com). \nLes entrées sont payantes : 3 € pour les adhérents\, 6 € pour les non adhérents. Possibilité de prendre une carte PASS pour les adhérents : abonnements de 10 conférences (au choix) pour 20 €. La carte PASS 2022-2023 pourra servir pour les conférences programmées de septembre 2023 à mai 2024. \nLes conférences du Lundi ont lieu au CINÉ 102 (Pont-Saint-Esprit) à 18 h 30. Exceptionnellement\, certaines conférences pourront se dérouler sur un autre lieu.\nEnfin\, pour les films\, les tarifs d’entrée seront ceux pratiqués par le Ciné 102. Il n’y aura pas d’inscription préalable.
URL:https://www.upgardrhodanien.com/conference/canal-de-suez-histoire-de-sa-construction-et-enjeux-actuels/
LOCATION:Ciné 102\, La Cazerne\, Pont-Saint-Esprit\, Gard\, 30130\, France
CATEGORIES:Conférence
ATTACH;FMTTYPE=image/jpeg:https://www.upgardrhodanien.com/wp-content/uploads/2024/08/CANAL-DE-SUEZ-HISTOIRE-DE-SA-CONSTRUCTION-ET-ENJEUX-ACTUELS.jpg
END:VEVENT
END:VCALENDAR