BEGIN:VCALENDAR
VERSION:2.0
PRODID:-//UPGR - ECPv6.15.18//NONSGML v1.0//EN
CALSCALE:GREGORIAN
METHOD:PUBLISH
X-ORIGINAL-URL:https://www.upgardrhodanien.com
X-WR-CALDESC:Évènements pour UPGR
REFRESH-INTERVAL;VALUE=DURATION:PT1H
X-Robots-Tag:noindex
X-PUBLISHED-TTL:PT1H
BEGIN:VTIMEZONE
TZID:UTC
BEGIN:STANDARD
TZOFFSETFROM:+0000
TZOFFSETTO:+0000
TZNAME:UTC
DTSTART:20240101T000000
END:STANDARD
END:VTIMEZONE
BEGIN:VEVENT
DTSTART;TZID=UTC:20250919T190000
DTEND;TZID=UTC:20250919T200000
DTSTAMP:20260422T075503
CREATED:20250822T145936Z
LAST-MODIFIED:20250822T145936Z
UID:4813-1758308400-1758312000@www.upgardrhodanien.com
SUMMARY:Humanisme ou mort ?
DESCRIPTION:Eric LOWEN\nDirecteur de l’Université Populaire de Philosophie de Toulouse \nL’humanisme n’est pas qu’un regard de la Renaissance ou de la culture hellénistique sur l’être humain\, c’est aussi un positionnement philosophique sur l’ensemble des faits sociaux\, culturels\, éthiques\, politiques\, économiques\, religieux\, éducatifs\, technologiques\, écologiques et environnementaux.\nFace aux nationalismes\, aux bellicismes\, aux religions fanatiques\, à l’exploitation économique\, à la destruction de l’écosystème planétaire et à la surexploitation des écosystèmes\, aux dérapages technologiques\, aux dictatures de toute nature\, nous n’avons au final que le choix entre l’humanisme ou la mort.\nDepuis que l’Humanité a atteint le stade de la capacité technologique de son autodestruction\, le choix de l’humanisme\, le respect de l’humain et du vivant placé au centre de toutes les activités humaines\, est devenu un enjeu éthique civilisationnel pour notre espèce et l’épanouissement des générations futures. \nInscriptions : lien Internet indiqué par mail pour les adhérents ou sur le site Internet (www.upgardrhodanien.com ).\nRenseignements : 06 37 49 43 45 \nConférences - Films : Mode d'emploi\nLe programme des conférences et des films indiqué peut être amené à être modifié en cours d’année. Il est recommandé de vérifier sur le site Internet de l’association. \nIl est aussi recommandé de s’inscrire à l’avance (au plus tard la veille de la date de la conférence et au plus tôt une semaine avant la conférence) compte tenu du nombre de places disponibles limité. Pour chaque conférence\, inscription en ligne sur le lien indiqué sur le mail d’information ou sur le site Internet (www.upgardrhodanien.com). \nLes entrées sont payantes : 3 € pour les adhérents\, 6 € pour les non adhérents. Possibilité de prendre une carte PASS pour les adhérents : abonnements de 10 conférences (au choix) pour 20 €. La carte PASS 2022-2023 pourra servir pour les conférences programmées de septembre 2023 à mai 2024. \nLes conférences du Lundi ont lieu au CINÉ 102 (Pont-Saint-Esprit) à 18 h 30. Exceptionnellement\, certaines conférences pourront se dérouler sur un autre lieu.\nEnfin\, pour les films\, les tarifs d’entrée seront ceux pratiqués par le Ciné 102. Il n’y aura pas d’inscription préalable.
URL:https://www.upgardrhodanien.com/conference/conference-humanisme-ou-mort/
LOCATION:SALLE DES FETES
CATEGORIES:Conférence
ATTACH;FMTTYPE=image/jpeg:https://www.upgardrhodanien.com/wp-content/uploads/2025/08/conference-humanisme.jpg
END:VEVENT
END:VCALENDAR