BEGIN:VCALENDAR
VERSION:2.0
PRODID:-//UPGR - ECPv6.15.18//NONSGML v1.0//EN
CALSCALE:GREGORIAN
METHOD:PUBLISH
X-WR-CALNAME:UPGR
X-ORIGINAL-URL:https://www.upgardrhodanien.com
X-WR-CALDESC:Évènements pour UPGR
REFRESH-INTERVAL;VALUE=DURATION:PT1H
X-Robots-Tag:noindex
X-PUBLISHED-TTL:PT1H
BEGIN:VTIMEZONE
TZID:UTC
BEGIN:STANDARD
TZOFFSETFROM:+0000
TZOFFSETTO:+0000
TZNAME:UTC
DTSTART:20240101T000000
END:STANDARD
END:VTIMEZONE
BEGIN:VEVENT
DTSTART;TZID=UTC:20250922T183000
DTEND;TZID=UTC:20250922T200000
DTSTAMP:20260422T075101
CREATED:20250822T145852Z
LAST-MODIFIED:20250822T145852Z
UID:4816-1758565800-1758571200@www.upgardrhodanien.com
SUMMARY:Origine et évolution de la naturopathie
DESCRIPTION:Eddy MANNINO\nEnseignant\, formateur en naturopathie \nÀ l’époque des réseaux sociaux mais aussi de la pensée unique\, la naturopathie est globalement taxée de charlatanisme en France par les autorités et les grands médias. Dans le même temps\, elle est officiellement reconnue sur le plan mondial ainsi que par un grand nombre de pays développés. Comment se repérer dans des points de vue aussi divers ? Au-delà du scientisme régnant parfois en France\, nous irons explorer les bases historiques\, les évolutions et les grands principes de la naturopathie. Quels sont ses méthodes\, ses outils\, ses ambitions et ses particularités\, exemples à l’appui ?\nÀ travers cela\, nous irons naturellement questionner ce qu’est une médecine\, à quelle condition ce terme fait sens\, et s’il fait sens pour la naturopathie. Nous reviendrons enfin sur les deux grands types de fondement en médecine\, ainsi que sur les risques pour toute médecine : argent\, quête de pouvoir\, dogmatisme. La naturopathie échappe-t-elle à ces risques ? \nInscriptions : lien Internet indiqué par mail pour les adhérents ou sur le site Internet (www.upgardrhodanien.com ).\nRenseignements : 06 37 49 43 45 \nConférences - Films : Mode d'emploi\nLe programme des conférences et des films indiqué peut être amené à être modifié en cours d’année. Il est recommandé de vérifier sur le site Internet de l’association. \nIl est aussi recommandé de s’inscrire à l’avance (au plus tard la veille de la date de la conférence et au plus tôt une semaine avant la conférence) compte tenu du nombre de places disponibles limité. Pour chaque conférence\, inscription en ligne sur le lien indiqué sur le mail d’information ou sur le site Internet (www.upgardrhodanien.com). \nLes entrées sont payantes : 3 € pour les adhérents\, 6 € pour les non adhérents. Possibilité de prendre une carte PASS pour les adhérents : abonnements de 10 conférences (au choix) pour 20 €. La carte PASS 2022-2023 pourra servir pour les conférences programmées de septembre 2023 à mai 2024. \nLes conférences du Lundi ont lieu au CINÉ 102 (Pont-Saint-Esprit) à 18 h 30. Exceptionnellement\, certaines conférences pourront se dérouler sur un autre lieu.\nEnfin\, pour les films\, les tarifs d’entrée seront ceux pratiqués par le Ciné 102. Il n’y aura pas d’inscription préalable.
URL:https://www.upgardrhodanien.com/conference/origine-et-evolution-de-la-naturopathie/
LOCATION:Ciné102
CATEGORIES:Conférence
ATTACH;FMTTYPE=image/jpeg:https://www.upgardrhodanien.com/wp-content/uploads/2025/08/conference-naturopathie.jpg
END:VEVENT
END:VCALENDAR