BEGIN:VCALENDAR
VERSION:2.0
PRODID:-//UPGR - ECPv6.15.18//NONSGML v1.0//EN
CALSCALE:GREGORIAN
METHOD:PUBLISH
X-WR-CALNAME:UPGR
X-ORIGINAL-URL:https://www.upgardrhodanien.com
X-WR-CALDESC:Évènements pour UPGR
REFRESH-INTERVAL;VALUE=DURATION:PT1H
X-Robots-Tag:noindex
X-PUBLISHED-TTL:PT1H
BEGIN:VTIMEZONE
TZID:UTC
BEGIN:STANDARD
TZOFFSETFROM:+0000
TZOFFSETTO:+0000
TZNAME:UTC
DTSTART:20250101T000000
END:STANDARD
END:VTIMEZONE
BEGIN:VEVENT
DTSTART;TZID=UTC:20260105T183000
DTEND;TZID=UTC:20260105T183000
DTSTAMP:20260422T005918
CREATED:20240827T091118Z
LAST-MODIFIED:20251215T095950Z
UID:4317-1767637800-1767637800@www.upgardrhodanien.com
SUMMARY:Tibet : Son histoire\, sa civilisation
DESCRIPTION:Jean-Pierre DESSENS\nPrésident de l’association\n« Connaissances de l’Himalaya » \nLe Tibet dans un contexte géographique et anthropologique\, montre une certaine homogénéité dans une région immense parlant une langue (ergative) et partageant des croyances identiques (Bön et Mi Cho). L‘empire guerrier (600/850 en dates rondes) consacre l’établissement d’un empire et transforme le Tibet en puissance asiatique majeure. L’introduction du bouddhisme et la création de monastères au détriment de la noblesse va éteindre cet empire. \nLe chaos qui s’en suivra verra surgir une montée en puissance d’un bouddhisme particulier\, avec des ordres monastiques qui peu à peu prendront le pouvoir dans des conflits interminables. Il faudra attendre l’arrivée des dalaï-lamas pour stabiliser l’ensemble. Le conservatisme\, l’avidité du pouvoir\, le « grand jeu » et la Chine auront raison du haut plateau.\nLes tibétains se sont parfaitement adaptés à leur environnement\, que ce soit au niveau social ou économique. N’étant pas un pays fermé comme il est souvent dit à tort\, de nombreuses influences\, de tous temps\, ont permis l’éclosion d’une civilisation riche et originale. \nInscriptions : lien Internet indiqué par mail pour les adhérents ou sur le site Internet (www.upgardrhodanien.com)\nRenseignements : 06 37 49 43 45 \nConférences - Films : Mode d'emploi\nLe programme des conférences et des films indiqué peut être amené à être modifié en cours d’année. Il est recommandé de vérifier sur le site Internet de l’association. \nIl est aussi recommandé de s’inscrire à l’avance (au plus tard la veille de la date de la conférence et au plus tôt une semaine avant la conférence) compte tenu du nombre de places disponibles limité. Pour chaque conférence\, inscription en ligne sur le lien indiqué sur le mail d’information ou sur le site Internet (www.upgardrhodanien.com). \nLes entrées sont payantes : 3 € pour les adhérents\, 6 € pour les non adhérents. Possibilité de prendre une carte PASS pour les adhérents : abonnements de 10 conférences (au choix) pour 20 €. La carte PASS 2022-2023 pourra servir pour les conférences programmées de septembre 2023 à mai 2024. \nLes conférences du Lundi ont lieu au CINÉ 102 (Pont-Saint-Esprit) à 18 h 30. Exceptionnellement\, certaines conférences pourront se dérouler sur un autre lieu.\nEnfin\, pour les films\, les tarifs d’entrée seront ceux pratiqués par le Ciné 102. Il n’y aura pas d’inscription préalable.
URL:https://www.upgardrhodanien.com/conference/tibet-son-histoire-sa-civilisation/
LOCATION:SALLE DES FETES
CATEGORIES:Conférence
ATTACH;FMTTYPE=image/jpeg:https://www.upgardrhodanien.com/wp-content/uploads/2025/08/conference-sur-le-tibet.jpg
END:VEVENT
END:VCALENDAR