BEGIN:VCALENDAR
VERSION:2.0
PRODID:-//UPGR - ECPv6.15.18//NONSGML v1.0//EN
CALSCALE:GREGORIAN
METHOD:PUBLISH
X-ORIGINAL-URL:https://www.upgardrhodanien.com
X-WR-CALDESC:Évènements pour UPGR
REFRESH-INTERVAL;VALUE=DURATION:PT1H
X-Robots-Tag:noindex
X-PUBLISHED-TTL:PT1H
BEGIN:VTIMEZONE
TZID:UTC
BEGIN:STANDARD
TZOFFSETFROM:+0000
TZOFFSETTO:+0000
TZNAME:UTC
DTSTART:20250101T000000
END:STANDARD
END:VTIMEZONE
BEGIN:VEVENT
DTSTART;TZID=UTC:20260126T183000
DTEND;TZID=UTC:20260126T193000
DTSTAMP:20260421T232247
CREATED:20250822T141222Z
LAST-MODIFIED:20250822T141222Z
UID:4857-1769452200-1769455800@www.upgardrhodanien.com
SUMMARY:Les grandes étapes de l'histoire des féminismes en France depuis 1789
DESCRIPTION:Florence ROCHEFORT\nHistorienne des féminismes et membre de la revue CLIO Femmes genre histoire\nPublication du livre « Les lois Veil Un siècle d’histoire »\, La Découverte poche\, 2024. \nÀ la faveur des événements politiques porteurs d’espoirs démocratiques\, la revendication d’égalité des sexes a donné lieu à des mobilisations collectives et à une presse militante qui constitue une source précieuse.  \nÀ partir de années 1880\, un véritable mouvement féministe s’inscrit dans la durée et se diversifie dans ses approches et ses choix stratégiques autour de la notion de droits et de libertés\, mais décline à partir de la fin des années 1930. Les années 1970 voient naître un féminisme radical qui met l’accent sur la libération des femmes\, leur sexualité et la libre disposition de leur corps en s’inscrivant dans la contre-culture de 1968.  \nUn féminisme plus institutionnel prend le relais dans les décennies suivantes toujours nourri par un dynamisme associatif militant et une activité parlementaire. Depuis 2017\, le mouvement « #MeToo » marque tout le paysage féministe et voit s’opérer un important renouvellement générationnel transnational autour de la lutte contre les violences faites aux femmes. \nInscriptions : lien Internet indiqué par mail pour les adhérents ou sur le site Internet (www.upgardrhodanien.com)\nRenseignements : 06 37 49 43 45 \nConférences - Films : Mode d'emploi\nLe programme des conférences et des films indiqué peut être amené à être modifié en cours d’année. Il est recommandé de vérifier sur le site Internet de l’association. \nIl est aussi recommandé de s’inscrire à l’avance (au plus tard la veille de la date de la conférence et au plus tôt une semaine avant la conférence) compte tenu du nombre de places disponibles limité. Pour chaque conférence\, inscription en ligne sur le lien indiqué sur le mail d’information ou sur le site Internet (www.upgardrhodanien.com). \nLes entrées sont payantes : 3 € pour les adhérents\, 6 € pour les non adhérents. Possibilité de prendre une carte PASS pour les adhérents : abonnements de 10 conférences (au choix) pour 20 €. La carte PASS 2022-2023 pourra servir pour les conférences programmées de septembre 2023 à mai 2024. \nLes conférences du Lundi ont lieu au CINÉ 102 (Pont-Saint-Esprit) à 18 h 30. Exceptionnellement\, certaines conférences pourront se dérouler sur un autre lieu.\nEnfin\, pour les films\, les tarifs d’entrée seront ceux pratiqués par le Ciné 102. Il n’y aura pas d’inscription préalable.
URL:https://www.upgardrhodanien.com/conference/les-grandes-etapes-de-lhistoire-des-feminismes-en-france-depuis-1789/
LOCATION:Ciné 102\, La Cazerne\, Pont-Saint-Esprit\, Gard\, 30130\, France
CATEGORIES:Conférence
ATTACH;FMTTYPE=image/jpeg:https://www.upgardrhodanien.com/wp-content/uploads/2025/08/conference-feminisme.jpg
END:VEVENT
END:VCALENDAR